BEGIN:VCALENDAR
VERSION:2.0
PRODID:-//Nepali Calendar//EN
BEGIN:VEVENT
UID:1b881168b2c35e304be3a7185eab9101@nepalicalendar.com
DTSTAMP:20260422T041225Z
DTSTART;VALUE=DATE:20250512
DTEND;VALUE=DATE:20250513
SUMMARY:अन्तर्राष्ट्रिय नर्स दिवस
DESCRIPTION:अन्तर्राष्ट्रिय नर्स दिवस
END:VEVENT
END:VCALENDAR