BEGIN:VCALENDAR
VERSION:2.0
PRODID:-//Nepali Calendar//EN
BEGIN:VEVENT
UID:ff9e1842e72b1a50466c9a9abc8f4781@nepalicalendar.com
DTSTAMP:20260422T041404Z
DTSTART;VALUE=DATE:20250512
DTEND;VALUE=DATE:20250513
SUMMARY:बैसाख स्नान समाप्ति
DESCRIPTION:बैसाख स्नान समाप्ति
END:VEVENT
END:VCALENDAR