BEGIN:VCALENDAR
VERSION:2.0
PRODID:-//Nepali Calendar//EN
BEGIN:VEVENT
UID:aa2515a26ee16a9ea0c69fd7a72de5e4@nepalicalendar.com
DTSTAMP:20260422T041817Z
DTSTART;VALUE=DATE:20250512
DTEND;VALUE=DATE:20250513
SUMMARY:गोरखनाथ जयन्ती
DESCRIPTION:गोरखनाथ जयन्ती
END:VEVENT
END:VCALENDAR