BEGIN:VCALENDAR
VERSION:2.0
PRODID:-//Nepali Calendar//EN
BEGIN:VEVENT
UID:5e9f9121b7c7d530c13b746530034c9c@nepalicalendar.com
DTSTAMP:20260422T041521Z
DTSTART;VALUE=DATE:20250512
DTEND;VALUE=DATE:20250513
SUMMARY:कुर्म जयन्ती
DESCRIPTION:कुर्म जयन्ती
END:VEVENT
END:VCALENDAR