BEGIN:VCALENDAR
VERSION:2.0
PRODID:-//Nepali Calendar//EN
BEGIN:VEVENT
UID:79ea2920dab5362b3cbb3d3b3219997b@nepalicalendar.com
DTSTAMP:20260422T041242Z
DTSTART;VALUE=DATE:20250512
DTEND;VALUE=DATE:20250513
SUMMARY:चण्डी पूर्णिमा
DESCRIPTION:चण्डी पूर्णिमा
END:VEVENT
END:VCALENDAR