BEGIN:VCALENDAR
VERSION:2.0
PRODID:-//Nepali Calendar//EN
BEGIN:VEVENT
UID:7395cabdd56ff21414ddc5c1cc66d99b@nepalicalendar.com
DTSTAMP:20260422T023625Z
DTSTART;VALUE=DATE:20250512
DTEND;VALUE=DATE:20250513
SUMMARY:चण्डेश्वरी जात्रा
DESCRIPTION:चण्डेश्वरी जात्रा
END:VEVENT
END:VCALENDAR