BEGIN:VCALENDAR
VERSION:2.0
PRODID:-//Nepali Calendar//EN
BEGIN:VEVENT
UID:e9607c8c9b658598117a0626caed1ba6@nepalicalendar.com
DTSTAMP:20260422T023647Z
DTSTART;VALUE=DATE:20250512
DTEND;VALUE=DATE:20250513
SUMMARY:उभौली पर्व
DESCRIPTION:उभौली पर्व
END:VEVENT
END:VCALENDAR