BEGIN:VCALENDAR
VERSION:2.0
PRODID:-//Nepali Calendar//EN
BEGIN:VEVENT
UID:4eced58e0a33ea7bd1865adb3b4988ff@nepalicalendar.com
DTSTAMP:20260422T023302Z
DTSTART;VALUE=DATE:20250512
DTEND;VALUE=DATE:20250513
SUMMARY:बुद्ध जयन्ती
DESCRIPTION:बुद्ध जयन्ती
END:VEVENT
END:VCALENDAR