BEGIN:VCALENDAR
VERSION:2.0
PRODID:-//Nepali Calendar//EN
BEGIN:VEVENT
UID:64811b0abfad4287362e3d42753a3755@nepalicalendar.com
DTSTAMP:20260422T023526Z
DTSTART;VALUE=DATE:20250511
DTEND;VALUE=DATE:20250512
SUMMARY:महिला ज्योतिष संघ स्थापना दिवस
DESCRIPTION:महिला ज्योतिष संघ स्थापना दिवस
END:VEVENT
END:VCALENDAR