BEGIN:VCALENDAR
VERSION:2.0
PRODID:-//Nepali Calendar//EN
BEGIN:VEVENT
UID:965b8f07623fbd8fac522f3c361e60aa@nepalicalendar.com
DTSTAMP:20260422T023303Z
DTSTART;VALUE=DATE:20250511
DTEND;VALUE=DATE:20250512
SUMMARY:नृसिंह जयन्ती
DESCRIPTION:नृसिंह जयन्ती
END:VEVENT
END:VCALENDAR