BEGIN:VCALENDAR
VERSION:2.0
PRODID:-//Nepali Calendar//EN
BEGIN:VEVENT
UID:dd84aaadee74f2b70bf89405af1b96f1@nepalicalendar.com
DTSTAMP:20260422T023625Z
DTSTART;VALUE=DATE:20250509
DTEND;VALUE=DATE:20250510
SUMMARY:प्रदोष व्रत
DESCRIPTION:प्रदोष व्रत
END:VEVENT
END:VCALENDAR