BEGIN:VCALENDAR
VERSION:2.0
PRODID:-//Nepali Calendar//EN
BEGIN:VEVENT
UID:fdcb2240d68d900f73e468b08aeeb5b3@nepalicalendar.com
DTSTAMP:20260422T005946Z
DTSTART;VALUE=DATE:20250520
DTEND;VALUE=DATE:20250521
SUMMARY:भौमाष्टमी व्रत
DESCRIPTION:भौमाष्टमी व्रत
END:VEVENT
END:VCALENDAR