BEGIN:VCALENDAR
VERSION:2.0
PRODID:-//Nepali Calendar//EN
BEGIN:VEVENT
UID:252158b27b5d39cffbb756b7c17132cc@nepalicalendar.com
DTSTAMP:20260422T023647Z
DTSTART;VALUE=DATE:20250509
DTEND;VALUE=DATE:20250510
SUMMARY:कानून दिवस
DESCRIPTION:कानून दिवस
END:VEVENT
END:VCALENDAR