BEGIN:VCALENDAR
VERSION:2.0
PRODID:-//Nepali Calendar//EN
BEGIN:VEVENT
UID:6118ff38bdb92eb0ecc6b0a8d08416aa@nepalicalendar.com
DTSTAMP:20260422T023525Z
DTSTART;VALUE=DATE:20250508
DTEND;VALUE=DATE:20250509
SUMMARY:मोहिनी एकादशी व्रत
DESCRIPTION:मोहिनी एकादशी व्रत
END:VEVENT
END:VCALENDAR