BEGIN:VCALENDAR
VERSION:2.0
PRODID:-//Nepali Calendar//EN
BEGIN:VEVENT
UID:a00bcc931598cc89a8338ab37ab54e93@nepalicalendar.com
DTSTAMP:20260422T023604Z
DTSTART;VALUE=DATE:20250508
DTEND;VALUE=DATE:20250509
SUMMARY:विश्व रेडक्रस दिवस
DESCRIPTION:विश्व रेडक्रस दिवस
END:VEVENT
END:VCALENDAR