BEGIN:VCALENDAR
VERSION:2.0
PRODID:-//Nepali Calendar//EN
BEGIN:VEVENT
UID:e57421473ed2ac272edf819f0705a503@nepalicalendar.com
DTSTAMP:20260422T023604Z
DTSTART;VALUE=DATE:20250507
DTEND;VALUE=DATE:20250508
SUMMARY:किराँत समाज सुधार दिवस
DESCRIPTION:किराँत समाज सुधार दिवस
END:VEVENT
END:VCALENDAR