BEGIN:VCALENDAR
VERSION:2.0
PRODID:-//Nepali Calendar//EN
BEGIN:VEVENT
UID:2791f11fb0e121fcafd37fe1d9ac7ee7@nepalicalendar.com
DTSTAMP:20260422T023437Z
DTSTART;VALUE=DATE:20250507
DTEND;VALUE=DATE:20250508
SUMMARY:प्रदेश सरकारको सरकारी कामकाजको भाषा सम्बन्धी दिवस(बागमती प्रदेशका लागि मात्र)
DESCRIPTION:प्रदेश सरकारको सरकारी कामकाजको भाषा सम्बन्धी दिवस(बागमती प्रदेशका लागि मात्र)
END:VEVENT
END:VCALENDAR