BEGIN:VCALENDAR
VERSION:2.0
PRODID:-//Nepali Calendar//EN
BEGIN:VEVENT
UID:eefb38400c4222c892dba0bfec06aed0@nepalicalendar.com
DTSTAMP:20260422T023738Z
DTSTART;VALUE=DATE:20250506
DTEND;VALUE=DATE:20250507
SUMMARY:सीता जयन्ती व्रत
DESCRIPTION:सीता जयन्ती व्रत
END:VEVENT
END:VCALENDAR