BEGIN:VCALENDAR
VERSION:2.0
PRODID:-//Nepali Calendar//EN
BEGIN:VEVENT
UID:e6d7cf71b407e7dac1dbc20e5e4eec81@nepalicalendar.com
DTSTAMP:20260422T023438Z
DTSTART;VALUE=DATE:20250505
DTEND;VALUE=DATE:20250506
SUMMARY:गोरखकाली पूजा
DESCRIPTION:गोरखकाली पूजा
END:VEVENT
END:VCALENDAR