BEGIN:VCALENDAR
VERSION:2.0
PRODID:-//Nepali Calendar//EN
BEGIN:VEVENT
UID:4e5cbd232390e003572b5961fef6bc68@nepalicalendar.com
DTSTAMP:20260422T023626Z
DTSTART;VALUE=DATE:20250504
DTEND;VALUE=DATE:20250505
SUMMARY:रविसप्तमी व्रत
DESCRIPTION:रविसप्तमी व्रत
END:VEVENT
END:VCALENDAR