BEGIN:VCALENDAR
VERSION:2.0
PRODID:-//Nepali Calendar//EN
BEGIN:VEVENT
UID:983edc4e3477a445cad63a4eac24f05e@nepalicalendar.com
DTSTAMP:20260422T023447Z
DTSTART;VALUE=DATE:20250504
DTEND;VALUE=DATE:20250505
SUMMARY:गङ्गा सप्तमी व्रत
DESCRIPTION:गङ्गा सप्तमी व्रत
END:VEVENT
END:VCALENDAR