BEGIN:VCALENDAR
VERSION:2.0
PRODID:-//Nepali Calendar//EN
BEGIN:VEVENT
UID:c455240e41061741414cc001f80c4ff3@nepalicalendar.com
DTSTAMP:20260422T023403Z
DTSTART;VALUE=DATE:20250504
DTEND;VALUE=DATE:20250505
SUMMARY:विश्व हाँसाे दिवस
DESCRIPTION:विश्व हाँसाे दिवस
END:VEVENT
END:VCALENDAR