BEGIN:VCALENDAR
VERSION:2.0
PRODID:-//Nepali Calendar//EN
BEGIN:VEVENT
UID:fab1669c45c2ad84d808b6174bf71a76@nepalicalendar.com
DTSTAMP:20260422T005956Z
DTSTART;VALUE=DATE:20250520
DTEND;VALUE=DATE:20250521
SUMMARY:गोरखकाली पूजा
DESCRIPTION:गोरखकाली पूजा
END:VEVENT
END:VCALENDAR