BEGIN:VCALENDAR
VERSION:2.0
PRODID:-//Nepali Calendar//EN
BEGIN:VEVENT
UID:bf687ab519de53d453155902ba625159@nepalicalendar.com
DTSTAMP:20260422T005644Z
DTSTART;VALUE=DATE:20250529
DTEND;VALUE=DATE:20250530
SUMMARY:गणतन्त्र दिवस
DESCRIPTION:गणतन्त्र दिवस
END:VEVENT
END:VCALENDAR